BEGIN:VCALENDAR
VERSION:2.0
PRODID:-//Feier- Kochlaune - ECPv6.2.6//NONSGML v1.0//EN
CALSCALE:GREGORIAN
METHOD:PUBLISH
X-ORIGINAL-URL:https://feier-kochlaune.de
X-WR-CALDESC:Veranstaltungen für Feier- Kochlaune
REFRESH-INTERVAL;VALUE=DURATION:PT1H
X-Robots-Tag:noindex
X-PUBLISHED-TTL:PT1H
BEGIN:VTIMEZONE
TZID:Europe/Berlin
BEGIN:DAYLIGHT
TZOFFSETFROM:+0100
TZOFFSETTO:+0200
TZNAME:CEST
DTSTART:20260329T010000
END:DAYLIGHT
BEGIN:STANDARD
TZOFFSETFROM:+0200
TZOFFSETTO:+0100
TZNAME:CET
DTSTART:20261025T010000
END:STANDARD
END:VTIMEZONE
BEGIN:VEVENT
DTSTART;TZID=Europe/Berlin:20260501T130000
DTEND;TZID=Europe/Berlin:20260503T110000
DTSTAMP:20260420T222816
CREATED:20241119T151436Z
LAST-MODIFIED:20250516T080320Z
UID:3716-1777640400-1777806000@feier-kochlaune.de
SUMMARY:Partyraum belegt Fr. 13.00 bis So.11.00 Uhr (An.-Kat. Hö. FL 0048-24)
DESCRIPTION:
URL:https://feier-kochlaune.de/event/anfr-partyraum-an-kat-hoe-anfr-v-18-11-24-res-b-31-01-25/
CATEGORIES:Feier
END:VEVENT
END:VCALENDAR