BEGIN:VCALENDAR
VERSION:2.0
PRODID:-//Feier- Kochlaune - ECPv6.2.6//NONSGML v1.0//EN
CALSCALE:GREGORIAN
METHOD:PUBLISH
X-WR-CALNAME:Feier- Kochlaune
X-ORIGINAL-URL:https://feier-kochlaune.de
X-WR-CALDESC:Veranstaltungen für Feier- Kochlaune
REFRESH-INTERVAL;VALUE=DURATION:PT1H
X-Robots-Tag:noindex
X-PUBLISHED-TTL:PT1H
BEGIN:VTIMEZONE
TZID:Europe/Berlin
BEGIN:DAYLIGHT
TZOFFSETFROM:+0100
TZOFFSETTO:+0200
TZNAME:CEST
DTSTART:20260329T010000
END:DAYLIGHT
BEGIN:STANDARD
TZOFFSETFROM:+0200
TZOFFSETTO:+0100
TZNAME:CET
DTSTART:20261025T010000
END:STANDARD
END:VTIMEZONE
BEGIN:VEVENT
DTSTART;TZID=Europe/Berlin:20260531T100000
DTEND;TZID=Europe/Berlin:20260531T130000
DTSTAMP:20260420T222322
CREATED:20260317T153124Z
LAST-MODIFIED:20260317T153124Z
UID:4259-1780221600-1780232400@feier-kochlaune.de
SUMMARY:Tag der offenen Tür ab 11.00 Uhr im 15 minütigem Rythmus\, Anmeldung erforderlich !
DESCRIPTION:
URL:https://feier-kochlaune.de/event/tag-der-offenen-tuer-ab-11-00-uhr-im-15-minuetigem-rythmus-anmeldung-erforderlich-3/
CATEGORIES:Feier
END:VEVENT
END:VCALENDAR