BEGIN:VCALENDAR
VERSION:2.0
PRODID:-//Feier- Kochlaune - ECPv6.2.6//NONSGML v1.0//EN
CALSCALE:GREGORIAN
METHOD:PUBLISH
X-ORIGINAL-URL:https://feier-kochlaune.de
X-WR-CALDESC:Veranstaltungen für Feier- Kochlaune
REFRESH-INTERVAL;VALUE=DURATION:PT1H
X-Robots-Tag:noindex
X-PUBLISHED-TTL:PT1H
BEGIN:VTIMEZONE
TZID:Europe/Berlin
BEGIN:DAYLIGHT
TZOFFSETFROM:+0100
TZOFFSETTO:+0200
TZNAME:CEST
DTSTART:20260329T010000
END:DAYLIGHT
BEGIN:STANDARD
TZOFFSETFROM:+0200
TZOFFSETTO:+0100
TZNAME:CET
DTSTART:20261025T010000
END:STANDARD
END:VTIMEZONE
BEGIN:VEVENT
DTSTART;TZID=Europe/Berlin:20260425T130000
DTEND;TZID=Europe/Berlin:20260426T110000
DTSTAMP:20260420T184936
CREATED:20260120T093908Z
LAST-MODIFIED:20260224T080150Z
UID:4188-1777122000-1777201200@feier-kochlaune.de
SUMMARY:Partyraum belegt v. Sa. 13.00 b. So. 11.00 Uhr (Fam. Scheft. FL 002-26)
DESCRIPTION:
URL:https://feier-kochlaune.de/event/anft-partyraum-fam-scheft-via-wh-ap-v-18-01/
CATEGORIES:Feier
END:VEVENT
BEGIN:VEVENT
DTSTART;TZID=Europe/Berlin:20260426T110000
DTEND;TZID=Europe/Berlin:20260426T130000
DTSTAMP:20260420T184936
CREATED:20260317T153040Z
LAST-MODIFIED:20260317T153040Z
UID:4257-1777201200-1777208400@feier-kochlaune.de
SUMMARY:Tag der offenen Tür ab 11.00 Uhr im 15 minütigem Rythmus\, Anmeldung erforderlich !
DESCRIPTION:
URL:https://feier-kochlaune.de/event/tag-der-offenen-tuer-ab-11-00-uhr-im-15-minuetigem-rythmus-anmeldung-erforderlich-2/
CATEGORIES:Feier
END:VEVENT
END:VCALENDAR